BEGIN:VCALENDAR
VERSION:2.0
PRODID:-//IT Executive - ECPv6.10.1//NONSGML v1.0//EN
CALSCALE:GREGORIAN
METHOD:PUBLISH
X-ORIGINAL-URL:https://itexecutive.nl
X-WR-CALDESC:Evenementen voor IT Executive
REFRESH-INTERVAL;VALUE=DURATION:PT1H
X-Robots-Tag:noindex
X-PUBLISHED-TTL:PT1H
BEGIN:VTIMEZONE
TZID:Europe/Amsterdam
BEGIN:DAYLIGHT
TZOFFSETFROM:+0100
TZOFFSETTO:+0200
TZNAME:CEST
DTSTART:20250330T010000
END:DAYLIGHT
BEGIN:STANDARD
TZOFFSETFROM:+0200
TZOFFSETTO:+0100
TZNAME:CET
DTSTART:20251026T010000
END:STANDARD
END:VTIMEZONE
BEGIN:VEVENT
DTSTART;TZID=Europe/Amsterdam:20250930T120000
DTEND;TZID=Europe/Amsterdam:20250930T180000
DTSTAMP:20260420T141406
CREATED:20250108T085113Z
LAST-MODIFIED:20250707T122117Z
UID:65078-1759233600-1759255200@itexecutive.nl
SUMMARY:Digital Growth Summit 2025
DESCRIPTION:How to create a results-driven organization\, designed for growth by fostering technology innovation? Organizations experience challenges with implementing and managing technology in the context of cyber risks\, changing regulatory landscape\, and resource and budget constraints.\n\n\n\nBusiness\nOrganizations need to build a truly adaptive and high-performance digital organization. Enhancing business models is a prerequisite for digital growth. In addition\, many organizations are re-evaluating their business partnerships and are strengthening and expanding their business ecosystems. What’s fascinating\, is the dynamics – any next move of competition will potentially require a strategy overhaul. Furthermore\, it is essential to track legislation and geopolitical developments\, as well as closely monitor public opinion on topics such as environment and inclusivity. \nTechnology\nTo power the business\, technology innovation needs a boost. Many organizations are too dependent on their incumbents\, have limited innovation resources\, face technical debt\, and are not cyber-resilient. Similar to the business\, also technology ecosystems need to expand and mature\, as well as internal innovation capabilities\, that need to be ramped up. Digital growth can only be achieved through technological innovation.
URL:https://itexecutive.nl/event/digital-growth-summit-2025/
LOCATION:High Tech Campus Eindhoven\, High Tech Campus 1\, Eindhoven\, 5656 AE
ATTACH;FMTTYPE=image/webp:https://itexecutive.nl/media/DCSummit2024-HTC-08-10-2024-72Dpi-2166.webp
END:VEVENT
END:VCALENDAR